BEGIN:VCALENDAR
VERSION:2.0
PRODID:-//ChamberMaster//Event Calendar 2.0//EN
METHOD:PUBLISH
X-PUBLISHED-TTL:P3D
REFRESH-INTERVAL:P3D
CALSCALE:GREGORIAN
BEGIN:VEVENT
DTSTART:20171108T230000Z
DTEND:20171109T010000Z
X-MICROSOFT-CDO-ALLDAYEVENT:FALSE
SUMMARY:Wine & Pallet Painting Party
DESCRIPTION:Wine & Pallet Painting Party\, contact Nicole Byler at 614-592-1782 for information.
X-ALT-DESC;FMTTYPE=text/html:Wine &amp\; Pallet Painting Party\, contact Nicole Byler at 614-592-1782 for information.
LOCATION:Hidden Lakes Winery\, 650 Winchester Pike\, Canal Winchester\, Ohio
UID:e.9051.4237
SEQUENCE:3
DTSTAMP:20260422T081013Z
URL:https://business.destinationcw.org/events/details/wine-pallet-painting-party-4237
END:VEVENT

END:VCALENDAR
