BEGIN:VCALENDAR
VERSION:2.0
PRODID:-//ChamberMaster//Event Calendar 2.0//EN
METHOD:PUBLISH
X-PUBLISHED-TTL:P3D
REFRESH-INTERVAL:P3D
CALSCALE:GREGORIAN
BEGIN:VEVENT
DTSTART:20181028T190000Z
DTEND:20181028T213000Z
X-MICROSOFT-CDO-ALLDAYEVENT:FALSE
SUMMARY:Wagnalls Community Theater presents The Addams Family
DESCRIPTION:The Wagnalls Community Theater presents The Addams Family.
X-ALT-DESC;FMTTYPE=text/html:The Wagnalls Community Theater presents The Addams Family.
LOCATION:The Wagnalls Memorial\, 150 E. Columbus St.\, Lithopolis\, Ohio 43136
UID:e.9051.6349
SEQUENCE:3
DTSTAMP:20260423T014556Z
URL:https://business.destinationcw.org/events/details/wagnalls-community-theater-presents-the-addams-family-10-28-2018-6349
END:VEVENT

END:VCALENDAR
