BEGIN:VCALENDAR
VERSION:2.0
PRODID:-//ChamberMaster//Event Calendar 2.0//EN
METHOD:PUBLISH
X-PUBLISHED-TTL:P3D
REFRESH-INTERVAL:P3D
CALSCALE:GREGORIAN
BEGIN:VEVENT
DTSTART:20180923T140000Z
DTEND:20180923T190000Z
X-MICROSOFT-CDO-ALLDAYEVENT:FALSE
SUMMARY:VW Car Show
DESCRIPTION:VW Car Show at Hidden Lakes Winery
X-ALT-DESC;FMTTYPE=text/html:VW Car Show at Hidden Lakes Winery
LOCATION:Hidden Lakes Winery\, 650 Winchester Pike\, Canal Winchester\, Ohio
UID:e.9051.6362
SEQUENCE:3
DTSTAMP:20260422T223204Z
URL:https://business.destinationcw.org/events/details/vw-car-show-6362
END:VEVENT

END:VCALENDAR
