BEGIN:VCALENDAR
VERSION:2.0
PRODID:-//ChamberMaster//Event Calendar 2.0//EN
METHOD:PUBLISH
X-PUBLISHED-TTL:P3D
REFRESH-INTERVAL:P3D
CALSCALE:GREGORIAN
BEGIN:VEVENT
DTSTART:20201107T150000Z
DTEND:20201107T160000Z
X-MICROSOFT-CDO-ALLDAYEVENT:FALSE
SUMMARY:Veteran's Walk & Ceremony
DESCRIPTION:The City of Canal Winchester\, with Canal Winchester Senior Citizens\, Inc. and VFW Post 10523 will host a Veterans Walk and Ceremony on Saturday November 7. The public and members of the media are invited to join veterans\, city officials\, and guests for this patriotic event. \n\n\n\nVeterans Walk & Ceremony\, 10:00 A.M.  \n\nA Veterans March will begin at the Canal Winchester Area Historical Complex and continue down High Street turning right on Columbus Street and proceeding to the alley and then the green space behind Stradley Park.\n\n\n\nA ceremony at Stradley Place (located next to Canal Winchester Municipal Office Building at 36 S. High Street in downtown Canal Winchester) will be held immediately following the veterans march.  Highlights will include a special performance of our National Anthem by Mike Walker\, a 21 Gun Salute\, and the playing of Taps. 2017 Keynote speaker Warren Motts will address the crowd.\n\n\n\nNovember 9 veterans celebration will also feature a free pancake breakfast for veterans and their families\, including widows and widowers\, at the Frances Steube Community Center from 8:30 a.m. to 10:00 a.m.
X-ALT-DESC;FMTTYPE=text/html:The City of Canal Winchester\, with Canal Winchester Senior Citizens\, Inc. and VFW Post 10523 will host a Veterans&nbsp\;Walk and Ceremony on Saturday November 7. The public and members of the media are invited to join veterans\, city officials\, and guests for this patriotic event.&nbsp\;<br />\n<br />\n<span style="text-decoration: underline\;"><strong>Veterans&nbsp\;Walk &amp\; Ceremony\, 10:00 A.M.</strong></span> &nbsp\;<br />\nA Veterans March will begin at the Canal Winchester Area Historical Complex and continue down High Street turning right on Columbus Street and proceeding to the alley and then the green space behind Stradley Park.<br />\n<br />\n<strong><em>A ceremony at Stradley Place (located next to Canal Winchester Municipal Office Building at 36 S. High Street in downtown Canal Winchester) will be held immediately following the veterans march</em></strong>. &nbsp\;Highlights will include a special performance of our National Anthem by Mike Walker\, a 21 Gun Salute\, and the playing of Taps. 2017 Keynote speaker Warren Motts will address the crowd.<br />\n<br />\nNovember&nbsp\;9 veterans celebration will also feature a <strong>free pancake breakfast</strong> for veterans and their families\, including widows and widowers\, at the Frances Steube Community Center from 8:30 a.m. to 10:00 a.m.
LOCATION:The green space behind Stradley Park.
UID:e.9051.9612
SEQUENCE:3
DTSTAMP:20260421T195055Z
URL:https://business.destinationcw.org/events/details/veteran-s-walk-ceremony-9612
END:VEVENT

END:VCALENDAR
