BEGIN:VCALENDAR
VERSION:2.0
PRODID:-//ChamberMaster//Event Calendar 2.0//EN
METHOD:PUBLISH
X-PUBLISHED-TTL:P3D
REFRESH-INTERVAL:P3D
CALSCALE:GREGORIAN
BEGIN:VEVENT
DTSTART:20181110T130000Z
DTEND:20181110T160000Z
X-MICROSOFT-CDO-ALLDAYEVENT:FALSE
SUMMARY:Veteran's Walk & Ceremony
DESCRIPTION:The City of Canal Winchester\, with Canal Winchester Senior Citizens\, Inc. and VFW Post 10523 will host a Veterans Walk and Ceremony on Saturday November 11. The public and members of the media are invited to join veterans\, city officials\, and guests for this patriotic event. \n\n\n\nVeterans Walk & Ceremony\, 10:00 A.M.  \n\nA Veterans March will begin at Frances Steube Community Center's 22 S. Trine St. entrance and continue onto East Waterloo between Trine and High Street\, turning at S. High Street to end at Stradley Place. \n\n\n\nA ceremony at Stradley Place (located next to Canal Winchester Municipal Office Building at 36 S. High Street in downtown Canal Winchester) will be held immediately following the veterans march.  Highlights will include a special performance of our National Anthem by Mike Walker\, a 21 Gun Salute\, and the playing of Taps. 2017 Keynote speaker Warren Motts will address the crowd.\n\n\n\nNovember 11 veterans celebration will also feature a free pancake breakfast for veterans and their families\, including widows and widowers\, at the Frances Steube Community Center from 8:30 a.m. to 10:00 a.m.
X-ALT-DESC;FMTTYPE=text/html:The City of Canal Winchester\, with Canal Winchester Senior Citizens\, Inc. and VFW Post 10523 will host a Veterans&nbsp\;Walk and Ceremony on Saturday November 11. The public and members of the media are invited to join veterans\, city officials\, and guests for this patriotic event.&nbsp\;<br />\n<br />\n<span style="text-decoration: underline\;"><strong>Veterans&nbsp\;Walk &amp\; Ceremony\, 10:00 A.M.</strong></span> &nbsp\;<br />\nA Veterans March will begin at Frances Steube Community Center&rsquo\;s 22 S. Trine St. entrance and continue onto East Waterloo between Trine and High Street\, turning at S. High Street to end at Stradley Place.&nbsp\;<br />\n<br />\n<strong><em>A ceremony at Stradley Place (located next to Canal Winchester Municipal Office Building at 36 S. High Street in downtown Canal Winchester) will be held immediately following the veterans march</em></strong>. &nbsp\;Highlights will include a special performance of our National Anthem by Mike Walker\, a 21 Gun Salute\, and the playing of Taps. 2017 Keynote speaker Warren Motts will address the crowd.<br />\n<br />\nNovember 11 veterans celebration will also feature a <strong>free pancake breakfast</strong> for veterans and their families\, including widows and widowers\, at the Frances Steube Community Center from 8:30 a.m. to 10:00 a.m.
LOCATION:Frances Steube Community Center\, 22 S. Trine St.\, Canal Winchester\, Ohio
UID:e.9051.6391
SEQUENCE:3
DTSTAMP:20260423T025303Z
URL:https://business.destinationcw.org/events/details/veteran-s-walk-ceremony-6391
END:VEVENT

END:VCALENDAR
