BEGIN:VCALENDAR
VERSION:2.0
PRODID:-//ChamberMaster//Event Calendar 2.0//EN
METHOD:PUBLISH
X-PUBLISHED-TTL:P3D
REFRESH-INTERVAL:P3D
CALSCALE:GREGORIAN
BEGIN:VEVENT
DTSTART:20180216T230000Z
DTEND:20180217T020000Z
X-MICROSOFT-CDO-ALLDAYEVENT:FALSE
SUMMARY:Valentines's Party
DESCRIPTION:Valentine's Party at the Frances Stuebe Community Center.  This is a free event but you must RSVP by February 9th by calling 614-837-8276.  Come for dancing\, door prizes and light refreshments.  Dress is casual.
X-ALT-DESC;FMTTYPE=text/html:Valentine&#39\;s Party at the Frances Stuebe Community Center.&nbsp\; This is a free event but you must RSVP by February 9th by calling 614-837-8276.&nbsp\; Come for dancing\, door prizes and light refreshments.&nbsp\; Dress is casual.
LOCATION:Frances Stuebe Community Center\, 22 S. Trine St.\, Canal Winchester\, Ohio
UID:e.9051.4861
SEQUENCE:3
DTSTAMP:20260422T111757Z
URL:https://business.destinationcw.org/events/details/valentines-s-party-4861
END:VEVENT

END:VCALENDAR
