BEGIN:VCALENDAR
VERSION:2.0
PRODID:-//ChamberMaster//Event Calendar 2.0//EN
METHOD:PUBLISH
X-PUBLISHED-TTL:P3D
REFRESH-INTERVAL:P3D
CALSCALE:GREGORIAN
BEGIN:VEVENT
DTSTART:20170107T000000Z
DTEND:20170107T020000Z
X-MICROSOFT-CDO-ALLDAYEVENT:FALSE
SUMMARY:Twelfth Night Dramatic Organ Debut
DESCRIPTION:Faith United Methodist Church presents a Twelfth Night of Dramatic Organ Debut in collaboration with the Canal Winchester High School Drama Department.  Shakespearean attire is very appropriate for the organ dedication.  Featuring organist Neil Weston.\n\n\n\nPlease join them for a reception following the concert with door prizes\, Twelfth Night Cake\, Wassil and other treats and surprises!
X-ALT-DESC;FMTTYPE=text/html:Faith United Methodist Church presents a Twelfth Night of Dramatic Organ Debut in collaboration with the Canal Winchester High School Drama Department.&nbsp\; Shakespearean attire is very appropriate for the organ dedication.&nbsp\; Featuring organist Neil Weston.<br />\n<br />\nPlease join them for a reception following the concert with door prizes\, Twelfth Night Cake\, Wassil and other treats and surprises!
LOCATION:Faith United Methodist Church\, 15 W. Columbus St\, Canal Winchester\, Ohio
UID:e.9051.4040
SEQUENCE:3
DTSTAMP:20260421T145623Z
URL:https://business.destinationcw.org/events/details/twelfth-night-dramatic-organ-debut-4040
END:VEVENT

END:VCALENDAR
