BEGIN:VCALENDAR
VERSION:2.0
PRODID:-//ChamberMaster//Event Calendar 2.0//EN
METHOD:PUBLISH
X-PUBLISHED-TTL:P3D
REFRESH-INTERVAL:P3D
CALSCALE:GREGORIAN
BEGIN:VEVENT
DTSTART;VALUE=DATE:20171030
DTEND;VALUE=DATE:20171031
TRANSP:TRANSPARENT
X-MICROSOFT-CDO-ALLDAYEVENT:TRUE
SUMMARY:Trick or Treat at the Inn
DESCRIPTION:Trick or Treat at the Inn - open to the public
X-ALT-DESC;FMTTYPE=text/html:Trick or Treat at the Inn - open to the public
LOCATION:Inn at Winchester Trial\, 6401 Winchester Blvd\, Canal Winchester\, Ohio
UID:e.9051.4228
SEQUENCE:3
DTSTAMP:20260422T050836Z
URL:https://business.destinationcw.org/events/details/trick-or-treat-at-the-inn-4228
END:VEVENT

END:VCALENDAR
