BEGIN:VCALENDAR
VERSION:2.0
PRODID:-//ChamberMaster//Event Calendar 2.0//EN
METHOD:PUBLISH
X-PUBLISHED-TTL:P3D
REFRESH-INTERVAL:P3D
CALSCALE:GREGORIAN
BEGIN:VEVENT
DTSTART:20180519T090000Z
DTEND:20180520T200000Z
X-MICROSOFT-CDO-ALLDAYEVENT:FALSE
SUMMARY:TOSRV (Tour of the Scioto River Valley) Bike Ride
DESCRIPTION:The 57th Annual Tour of the Scioto River Valley (TOSRV) will begin Saturday\, May 19th in Historic Downtown Canal Winchester\, Ohio  and finish Sunday\, May 20th at Brew Dog of Canal Winchester.  Many participants  will ride over 210 miles during the weekend.
X-ALT-DESC;FMTTYPE=text/html:The 57th Annual Tour of the Scioto River Valley (TOSRV) will begin Saturday\, May 19th in Historic Downtown Canal Winchester\, Ohio&nbsp\; and finish Sunday\, May 20th at Brew Dog of Canal Winchester.&nbsp\; Many participants &nbsp\;will ride over 210 miles during the weekend.
LOCATION:Riders will start at the Old Train Depot Saturday morning and\, those that do the full ride will return to Brew Dog in Canal Winchester.
UID:e.9051.5893
SEQUENCE:3
DTSTAMP:20260422T161510Z
URL:https://business.destinationcw.org/events/details/tosrv-tour-of-the-scioto-river-valley-bike-ride-5893
END:VEVENT

END:VCALENDAR
