BEGIN:VCALENDAR
VERSION:2.0
PRODID:-//ChamberMaster//Event Calendar 2.0//EN
METHOD:PUBLISH
X-PUBLISHED-TTL:P3D
REFRESH-INTERVAL:P3D
CALSCALE:GREGORIAN
BEGIN:VEVENT
DTSTART:20170330T220000Z
DTEND:20170331T010000Z
X-MICROSOFT-CDO-ALLDAYEVENT:FALSE
SUMMARY:Tim O'Connor
DESCRIPTION:Tim O'Connor performing
X-ALT-DESC;FMTTYPE=text/html:Tim O&#39\;Connor performing
LOCATION:Hidden Lakes Winery & Distillery\, 650 Winchester Pike\, Canal Winchester\, Ohio
UID:e.9051.4098
SEQUENCE:3
DTSTAMP:20260421T175810Z
URL:https://business.destinationcw.org/events/details/tim-o-connor-4098
END:VEVENT

END:VCALENDAR
