BEGIN:VCALENDAR
VERSION:2.0
PRODID:-//ChamberMaster//Event Calendar 2.0//EN
METHOD:PUBLISH
X-PUBLISHED-TTL:P3D
REFRESH-INTERVAL:P3D
CALSCALE:GREGORIAN
BEGIN:VEVENT
DTSTART:20180918T230000Z
DTEND:20180919T010000Z
X-MICROSOFT-CDO-ALLDAYEVENT:FALSE
SUMMARY:Think While you Drink
DESCRIPTION:Think While You Drink Trivia Night at Loose Rail
X-ALT-DESC;FMTTYPE=text/html:Think While You Drink Trivia Night at Loose Rail
LOCATION:Loose Rail Brewinig\, 37 W. Waterloo\, Canal Winchester\, Ohio
UID:e.9051.6354
SEQUENCE:3
DTSTAMP:20260422T223310Z
URL:https://business.destinationcw.org/events/details/think-while-you-drink-09-18-2018-6354
END:VEVENT

END:VCALENDAR
