BEGIN:VCALENDAR
VERSION:2.0
PRODID:-//ChamberMaster//Event Calendar 2.0//EN
METHOD:PUBLISH
X-PUBLISHED-TTL:P3D
REFRESH-INTERVAL:P3D
CALSCALE:GREGORIAN
BEGIN:VEVENT
DTSTART:20170406T220000Z
DTEND:20170407T010000Z
X-MICROSOFT-CDO-ALLDAYEVENT:FALSE
SUMMARY:The World Famous Harlem Wizards
DESCRIPTION:Thu - Apr 6\, 2017 - 7:00pm\n \n\n\nPlease join us at Canal Winchester High School\, located at 300 Washington Street\, Canal Winchester\, OH. The game starts at 7:00 p.m. and the doors open at 6:00 p.m. Make sure to purchase your tickets in advance. If available\, tickets at the door will cost $10 for Students and $12 for General Admission. For online purchases\, a service fee of $0.99 per ticket will be added to your final cost. THE ONLINE BOX OFFICE FOR THIS EVENT WILL CLOSE 24 HOURS BEFORE THE EVENT.
X-ALT-DESC;FMTTYPE=text/html:Thu - Apr 6\, 2017 - 7:00pm\n<div class="page-right social">&nbsp\;</div>\n\n<div class="event_display" itemprop="description" style="min-height: 40px\;">\n<p>Please join us at Canal Winchester High School\, located at 300 Washington Street\, Canal Winchester\, OH. The game starts at 7:00 p.m. and the doors open at 6:00 p.m. Make sure to purchase your tickets in advance. If available\, tickets at the door will cost $10 for Students and $12 for General Admission. For online purchases\, a service fee of $0.99 per ticket will be added to your final cost. <span class="caps">THE ONLINE BOX OFFICE FOR THIS EVENT WILL CLOSE 24 HOURS BEFORE THE EVENT</span>.</p>\n</div>\n
LOCATION:Canal Winchester High School
UID:e.9051.4121
SEQUENCE:3
DTSTAMP:20260421T193730Z
URL:https://business.destinationcw.org/events/details/the-world-famous-harlem-wizards-4121
END:VEVENT

END:VCALENDAR
