BEGIN:VCALENDAR
VERSION:2.0
PRODID:-//ChamberMaster//Event Calendar 2.0//EN
METHOD:PUBLISH
X-PUBLISHED-TTL:P3D
REFRESH-INTERVAL:P3D
CALSCALE:GREGORIAN
BEGIN:VEVENT
DTSTART:20170125T230000Z
DTEND:20170126T010000Z
X-MICROSOFT-CDO-ALLDAYEVENT:FALSE
SUMMARY:The Opioid Epidemic
DESCRIPTION:The City of Canal Winchester and the Fairfield County Sheriff's Office will host a Community Education event on Wednesday\, January 25\, 2017 at the Frances Steube Community Center\, 22 S. Trine St. in Canal Winchester. The free program will run from 6:00 p.m. to 8:00 p.m.\, and will cover topics such as the opioid epidemic\, prescription drug abuse\, community awareness\, and identifying illegal drug activity. Information will also be available to those interested in joining the Fairfield County Sheriff's Community Watch program. The public is invited to join Mayor Mike Ebert\, Sheriff Dave Phalen\, and Commander Dennis Lowe of the Major Crimes Unit for this discussion geared to help maintain a safe and secure community.
X-ALT-DESC;FMTTYPE=text/html:The City of Canal Winchester and the Fairfield County Sheriff&rsquo\;s Office will host a Community Education event on Wednesday\, January 25\, 2017 at the Frances Steube Community Center\, 22 S. Trine St. in Canal Winchester. The free program will run from 6:00 p.m. to 8:00 p.m.\, and will cover topics such as the opioid epidemic\, prescription drug abuse\, community awareness\, and identifying illegal drug activity. Information will also be available to those interested in joining the Fairfield County Sheriff&rsquo\;s Community Watch program. The public is invited to join Mayor Mike Ebert\, Sheriff Dave Phalen\, and Commander Dennis Lowe of the Major Crimes Unit for this discussion geared to help maintain a safe and secure community.
LOCATION:Frances Steube Community Center\, 22 S. Trine St.\, Canal Winchester
UID:e.9051.4065
SEQUENCE:3
DTSTAMP:20260421T151521Z
URL:https://business.destinationcw.org/events/details/the-opioid-epidemic-4065
END:VEVENT

END:VCALENDAR
