BEGIN:VCALENDAR
VERSION:2.0
PRODID:-//ChamberMaster//Event Calendar 2.0//EN
METHOD:PUBLISH
X-PUBLISHED-TTL:P3D
REFRESH-INTERVAL:P3D
CALSCALE:GREGORIAN
BEGIN:VEVENT
DTSTART:20180505T170000Z
DTEND:20180505T200000Z
X-MICROSOFT-CDO-ALLDAYEVENT:FALSE
SUMMARY:The National Barber Museum Grand Opening
DESCRIPTION:Grand opening festivities begin at 1:00 p.m. at the museum\, located at 135 Franklin Street in downtown Canal Winchester (behind former CW High School building).  The public is invited to join Museum Curator Mike Ippoliti for a guided tour through the museum as he shares his passion for the history of the profession. Guests may also enjoy barber shop quartet performances\, historic hospitality\, and the museum's distinctive gift shop.
X-ALT-DESC;FMTTYPE=text/html:<strong>Grand opening festivities begin at 1:00 p.m. at the museum\, located at 135 Franklin Street in downtown Canal Winchester</strong> (behind former CW High School building). &nbsp\;The public is invited to join Museum Curator Mike Ippoliti for a guided tour through the museum as he shares his passion for the history of the profession. Guests may also enjoy barber shop quartet performances\, historic hospitality\, and the museum&rsquo\;s distinctive gift shop.
LOCATION:135 Franklin Street\, Canal Winchester\, Ohio
UID:e.9051.5890
SEQUENCE:3
DTSTAMP:20260422T160325Z
URL:https://business.destinationcw.org/events/details/the-national-barber-museum-grand-opening-5890
END:VEVENT

END:VCALENDAR
