BEGIN:VCALENDAR
VERSION:2.0
PRODID:-//ChamberMaster//Event Calendar 2.0//EN
METHOD:PUBLISH
X-PUBLISHED-TTL:P3D
REFRESH-INTERVAL:P3D
CALSCALE:GREGORIAN
BEGIN:VEVENT
DTSTART:20170406T223000Z
DTEND:20170407T003000Z
X-MICROSOFT-CDO-ALLDAYEVENT:FALSE
SUMMARY:The music of Dr. Dan
DESCRIPTION:The music of Dr. Dan
X-ALT-DESC;FMTTYPE=text/html:The music of Dr. Dan
LOCATION:Harvest Moon Craft Kitchen\, 7 N. High Street\, Canal Winchester\, Ohio
UID:e.9051.4114
SEQUENCE:3
DTSTAMP:20260421T205843Z
URL:https://business.destinationcw.org/events/details/the-music-of-dr-dan-4114
END:VEVENT

END:VCALENDAR
