BEGIN:VCALENDAR
VERSION:2.0
PRODID:-//ChamberMaster//Event Calendar 2.0//EN
METHOD:PUBLISH
X-PUBLISHED-TTL:P3D
REFRESH-INTERVAL:P3D
CALSCALE:GREGORIAN
BEGIN:VEVENT
DTSTART:20170407T230000Z
DTEND:20170408T020000Z
X-MICROSOFT-CDO-ALLDAYEVENT:FALSE
SUMMARY:The music of Acoustic Avalanche
DESCRIPTION:Music by Acoustic Avalanche
X-ALT-DESC;FMTTYPE=text/html:Music by Acoustic Avalanche
LOCATION:Harvest Moon Craft Kitchen\, 7 N. High Street\, Canal Winchester\, Ohio
UID:e.9051.4115
SEQUENCE:3
DTSTAMP:20260421T194129Z
URL:https://business.destinationcw.org/events/details/the-music-of-acoustic-avalanche-4115
END:VEVENT

END:VCALENDAR
