BEGIN:VCALENDAR
VERSION:2.0
PRODID:-//ChamberMaster//Event Calendar 2.0//EN
METHOD:PUBLISH
X-PUBLISHED-TTL:P3D
REFRESH-INTERVAL:P3D
CALSCALE:GREGORIAN
BEGIN:VEVENT
DTSTART:20121026T230000Z
DTEND:20121028T020000Z
X-MICROSOFT-CDO-ALLDAYEVENT:FALSE
SUMMARY:The Haunted Car Wash! (weekend 1)
DESCRIPTION:The most haunted car wash you will ever experience!\n\n\n\nWHAT CAN YOU EXPECT FROM THE HAUNTED CAR WASH?:\n\n\n\nThe Haunted Car Wash will definitely excite you  ...once you've started\, there is no escape!  In all honesty\, it may be too frightening for small kids.  What makes the haunted car wash so scary is that our "graveyard shift" of ghosts\, zombies\, and demons wield everything from pitch forks to chain saws getting up close and personal with the "victims" ...er guests.  Inside the tunnel will be the scariest\, most demented music blaring throughout the "bloody" 90 ft enclosure.  The guests that are brave enough to drive through will be ambushed from all sides by the most unsettling creatures jumping in and out of the fog and mist\, always grabbing at you and your vehicle.  You have the feeling that at any moment you could be taken because you are trespassing in their world.  \n\n\n\nSmall bags of candy are provided for all guests upon their survival of ...The Haunted Car Wash!
X-ALT-DESC;FMTTYPE=text/html:<span style="font-size:14px\;"><strong>The most haunted car wash you will ever experience!</strong></span><br />\n<br />\nWHAT CAN YOU EXPECT FROM THE HAUNTED CAR WASH?:<br />\n<br />\nThe Haunted Car Wash will definitely excite you&nbsp\; ...once you&#39\;ve started\, there is no escape!&nbsp\; In all honesty\, it may be too frightening for small kids.&nbsp\; What makes the haunted car wash so scary is that our &quot\;graveyard shift&quot\; of ghosts\, zombies\, and demons wield everything from pitch forks to chain saws getting up close and personal with the &quot\;victims&quot\; ...er guests.&nbsp\; Inside the tunnel will be the scariest\, most demented music blaring throughout the &quot\;bloody&quot\; 90 ft enclosure.&nbsp\; The guests that are brave enough to drive through will be ambushed from all sides by the most unsettling creatures jumping in and out of the fog and mist\, always grabbing at you and your vehicle.&nbsp\; You have the feeling that at any moment you could be taken because you are trespassing in their world. &nbsp\;<br />\n<br />\nSmall bags of candy are provided for all guests upon their survival of ...The Haunted Car Wash!&nbsp\; 
LOCATION:Sudslingers Car Wash & Detail Shop at 729 Winchester Pike in Canal Winchester.
UID:e.9051.90
SEQUENCE:3
DTSTAMP:20260421T115431Z
URL:https://business.destinationcw.org/events/details/the-haunted-car-wash-weekend-1-10-26-2012-90
END:VEVENT

END:VCALENDAR
