BEGIN:VCALENDAR
VERSION:2.0
PRODID:-//ChamberMaster//Event Calendar 2.0//EN
METHOD:PUBLISH
X-PUBLISHED-TTL:P3D
REFRESH-INTERVAL:P3D
CALSCALE:GREGORIAN
BEGIN:VEVENT
DTSTART:20170427T220000Z
DTEND:20170428T010000Z
X-MICROSOFT-CDO-ALLDAYEVENT:FALSE
SUMMARY:The Fiddlestix
DESCRIPTION:The Fiddlestix entertainer
X-ALT-DESC;FMTTYPE=text/html:The Fiddlestix entertainer
LOCATION:Hidden Lakes Winery & Distillery\, 650 Winchester Pike\, Canal Winchester\, Ohio
UID:e.9051.4100
SEQUENCE:3
DTSTAMP:20260421T193643Z
URL:https://business.destinationcw.org/events/details/the-fiddlestix-4100
END:VEVENT

END:VCALENDAR
