BEGIN:VCALENDAR
VERSION:2.0
PRODID:-//ChamberMaster//Event Calendar 2.0//EN
METHOD:PUBLISH
X-PUBLISHED-TTL:P3D
REFRESH-INTERVAL:P3D
CALSCALE:GREGORIAN
BEGIN:VEVENT
DTSTART:20180402T160000Z
DTEND:20180421T160000Z
X-MICROSOFT-CDO-ALLDAYEVENT:FALSE
SUMMARY:The Canal Winchester Lions Club Annual Flower Sale
DESCRIPTION:The Canal Winchester Lions Club is holding their annual Flower Sale.  Ordering deadline is April 21st and pick up of orders is on Saturday\, May 5th from 10 am to 1 pm at the Canal Winchester High School.  Over half of the funds collected go back to organizations in Canal Winchester. Go to 2018 CW Lions Flower Form.pdf for flower list and prices as well as information regarding the organizations that will benefit from this fund raiser.
X-ALT-DESC;FMTTYPE=text/html:The Canal Winchester Lions Club is holding their annual Flower Sale.&nbsp\; Ordering deadline is April 21st and pick up of orders is on Saturday\, May 5th from 10 am to 1 pm&nbsp\;at the Canal Winchester High School.&nbsp\; Over half of the funds collected go back to organizations in Canal Winchester. Go to <a href="https://email18.godaddy.com/webmail.php?folder=INBOX.Farmers%20Market&amp\;firstMessage=1#"><font color="#0066cc">2018</font></a><a href="https://email18.godaddy.com/webmail.php?folder=INBOX.Farmers%20Market&amp\;firstMessage=1#"><font color="#0066cc"> CW Lions Flower Form.pdf </font></a>for flower list and prices as well as information regarding the organizations that will benefit from this fund raiser.
LOCATION:Pick up is at the CW High School at the curved drive way in front of the building from 10 am to 1 pm.
UID:e.9051.5678
SEQUENCE:3
DTSTAMP:20260422T143019Z
URL:https://business.destinationcw.org/events/details/the-canal-winchester-lions-club-annual-flower-sale-5678
END:VEVENT

END:VCALENDAR
