BEGIN:VCALENDAR
VERSION:2.0
PRODID:-//ChamberMaster//Event Calendar 2.0//EN
METHOD:PUBLISH
X-PUBLISHED-TTL:P3D
REFRESH-INTERVAL:P3D
CALSCALE:GREGORIAN
BEGIN:VEVENT
DTSTART:20170610T190000Z
DTEND:20170611T020000Z
X-MICROSOFT-CDO-ALLDAYEVENT:FALSE
SUMMARY:Summer Brewfest
DESCRIPTION:Summer Brewfest- live music\, beer garden\, food.  Come listen to the sounds of Strung Up Bluegrass from 3 - 5\; Yellow Paper Planes from 5:30 - 7:30 and Ray Stephenson and Buddy Owens from 8 - 10.  Beer will be $5.50 each!  Food trucks will be there to satisfy your hunger!
X-ALT-DESC;FMTTYPE=text/html:Summer Brewfest- live music\, beer garden\, food.&nbsp\; Come listen to the sounds of Strung Up Bluegrass from 3 - 5\; Yellow Paper Planes from 5:30 - 7:30 and Ray Stephenson and Buddy Owens from 8 - 10.&nbsp\; Beer will be $5.50 each!&nbsp\; Food trucks will be there to satisfy your hunger!
LOCATION:37 W. Waterloo Rd.\, Canal Winchester\, Ohio
UID:e.9051.4163
SEQUENCE:3
DTSTAMP:20260421T235709Z
URL:https://business.destinationcw.org/events/details/summer-brewfest-4163
END:VEVENT

END:VCALENDAR
