BEGIN:VCALENDAR
VERSION:2.0
PRODID:-//ChamberMaster//Event Calendar 2.0//EN
METHOD:PUBLISH
X-PUBLISHED-TTL:P3D
REFRESH-INTERVAL:P3D
CALSCALE:GREGORIAN
BEGIN:VEVENT
DTSTART:20260422T153000Z
DTEND:20260422T173000Z
X-MICROSOFT-CDO-ALLDAYEVENT:FALSE
SUMMARY:State of the Community Address
DESCRIPTION:The Chamber's inaugural State of the Community event\, presented by Diley Ridge Medical Center\, provides an overview of current and future initiatives from the Chamber\, the City of Canal Winchester\, and the Canal Winchester Local School District.\n\n \n\n \n\nThis luncheon is designed for the business community. It offers a look at what's ahead for Canal Winchester as well as the opportunity to connect with local leaders and fellow professionals. This event replaces the Chamber's previous State of the City and State of the Schools events\, streamlining these updates into one comprehensive event.\n\n \n\n \n\nBoxed lunches will be catered by Coffee on High.\n\n \n\n \n\nSeating is limited. Early registration is encouraged.\n\n\n\n\n\nTickets: $30 Chamber Members/$35 Non-Members\n\n \n\n\n\nEarly Bird Discount: Use the coupon code COMMUNITY to save $5 on individual registration through March 11.\n\nhttps://canalwinchester.com/events/calendar/#id=241&cid=1982&wid=801&type=Cal
X-ALT-DESC;FMTTYPE=text/html:<p style="margin: 0px\; padding: 0px\; border: 0px\; outline: 0px\; font-size: 14px\; vertical-align: baseline\; background-image: initial\; background-position: initial\; background-size: initial\; background-repeat: initial\; background-attachment: initial\; background-origin: initial\; background-clip: initial\; font-family: Rubik\, Arial\, Helvetica\, sans-serif\;"><span style="margin: 0px\; padding: 0px\; border: 0px\; outline: 0px\; vertical-align: baseline\; background: transparent\;"><font color="#212121">The Chamber&#39\;s</font></span><span style="color: rgb(0\, 0\, 0)\; margin: 0px\; padding: 0px\; border: 0px\; outline: 0px\; vertical-align: baseline\; background: transparent\;"> inaugural State of the Community event\, presented by Diley Ridge Medical Center\, provides an overview of current and future initiatives from the Chamber\, the City of Canal Winchester\, and the Canal Winchester Local School District.</span></p>\n\n<p style="margin: 0px\; padding: 0px\; border: 0px\; outline: 0px\; font-size: 14px\; vertical-align: baseline\; background-image: initial\; background-position: initial\; background-size: initial\; background-repeat: initial\; background-attachment: initial\; background-origin: initial\; background-clip: initial\; color: rgb(116\, 116\, 116)\; font-family: Rubik\, Arial\, Helvetica\, sans-serif\;"><span style="margin: 0px\; padding: 0px\; border: 0px\; outline: 0px\; vertical-align: baseline\; background: transparent\; color: rgb(0\, 0\, 0)\;">&nbsp\;</span></p>\n\n<p style="margin: 0px\; padding: 0px\; border: 0px\; outline: 0px\; font-size: 14px\; vertical-align: baseline\; background-image: initial\; background-position: initial\; background-size: initial\; background-repeat: initial\; background-attachment: initial\; background-origin: initial\; background-clip: initial\; color: rgb(116\, 116\, 116)\; font-family: Rubik\, Arial\, Helvetica\, sans-serif\;"><span style="margin: 0px\; padding: 0px\; border: 0px\; outline: 0px\; vertical-align: baseline\; background: transparent\; color: rgb(0\, 0\, 0)\;">&nbsp\;</span></p>\n\n<p style="margin: 0px\; padding: 0px\; border: 0px\; outline: 0px\; font-size: 14px\; vertical-align: baseline\; background-image: initial\; background-position: initial\; background-size: initial\; background-repeat: initial\; background-attachment: initial\; background-origin: initial\; background-clip: initial\; color: rgb(116\, 116\, 116)\; font-family: Rubik\, Arial\, Helvetica\, sans-serif\;"><span style="margin: 0px\; padding: 0px\; border: 0px\; outline: 0px\; vertical-align: baseline\; background: transparent\; color: rgb(0\, 0\, 0)\;">This luncheon is designed for the business community. It offers a look at what&rsquo\;s ahead for Canal Winchester as well as the opportunity to connect with local leaders and fellow professionals. This event replaces the Chamber&rsquo\;s previous State of the City and State of the Schools events\, streamlining these updates into one comprehensive event.</span></p>\n\n<p style="margin: 0px\; padding: 0px\; border: 0px\; outline: 0px\; font-size: 14px\; vertical-align: baseline\; background-image: initial\; background-position: initial\; background-size: initial\; background-repeat: initial\; background-attachment: initial\; background-origin: initial\; background-clip: initial\; color: rgb(116\, 116\, 116)\; font-family: Rubik\, Arial\, Helvetica\, sans-serif\;"><span style="margin: 0px\; padding: 0px\; border: 0px\; outline: 0px\; vertical-align: baseline\; background: transparent\; color: rgb(0\, 0\, 0)\;">&nbsp\;</span></p>\n\n<p style="margin: 0px\; padding: 0px\; border: 0px\; outline: 0px\; font-size: 14px\; vertical-align: baseline\; background-image: initial\; background-position: initial\; background-size: initial\; background-repeat: initial\; background-attachment: initial\; background-origin: initial\; background-clip: initial\; color: rgb(116\, 116\, 116)\; font-family: Rubik\, Arial\, Helvetica\, sans-serif\;"><span style="margin: 0px\; padding: 0px\; border: 0px\; outline: 0px\; vertical-align: baseline\; background: transparent\; color: rgb(0\, 0\, 0)\;">&nbsp\;</span></p>\n\n<p style="margin: 0px\; padding: 0px\; border: 0px\; outline: 0px\; font-size: 14px\; vertical-align: baseline\; background-image: initial\; background-position: initial\; background-size: initial\; background-repeat: initial\; background-attachment: initial\; background-origin: initial\; background-clip: initial\; color: rgb(116\, 116\, 116)\; font-family: Rubik\, Arial\, Helvetica\, sans-serif\;"><span style="margin: 0px\; padding: 0px\; border: 0px\; outline: 0px\; vertical-align: baseline\; background: transparent\; color: rgb(0\, 0\, 0)\;">Boxed lunches will be catered by Coffee on High.</span></p>\n\n<p style="margin: 0px\; padding: 0px\; border: 0px\; outline: 0px\; font-size: 14px\; vertical-align: baseline\; background-image: initial\; background-position: initial\; background-size: initial\; background-repeat: initial\; background-attachment: initial\; background-origin: initial\; background-clip: initial\; color: rgb(116\, 116\, 116)\; font-family: Rubik\, Arial\, Helvetica\, sans-serif\;"><span style="margin: 0px\; padding: 0px\; border: 0px\; outline: 0px\; vertical-align: baseline\; background: transparent\; color: rgb(0\, 0\, 0)\;">&nbsp\;</span></p>\n\n<p style="margin: 0px\; padding: 0px\; border: 0px\; outline: 0px\; font-size: 14px\; vertical-align: baseline\; background-image: initial\; background-position: initial\; background-size: initial\; background-repeat: initial\; background-attachment: initial\; background-origin: initial\; background-clip: initial\; color: rgb(116\, 116\, 116)\; font-family: Rubik\, Arial\, Helvetica\, sans-serif\;"><span style="margin: 0px\; padding: 0px\; border: 0px\; outline: 0px\; vertical-align: baseline\; background: transparent\; color: rgb(0\, 0\, 0)\;">&nbsp\;</span></p>\n\n<p style="margin: 0px\; padding: 0px\; border: 0px\; outline: 0px\; font-size: 14px\; vertical-align: baseline\; background-image: initial\; background-position: initial\; background-size: initial\; background-repeat: initial\; background-attachment: initial\; background-origin: initial\; background-clip: initial\; color: rgb(116\, 116\, 116)\; font-family: Rubik\, Arial\, Helvetica\, sans-serif\;"><span style="margin: 0px\; padding: 0px\; border: 0px\; outline: 0px\; vertical-align: baseline\; background: transparent\; color: rgb(0\, 0\, 0)\;">Seating is limited. Early registration is encouraged.<br />\n<br />\n<br />\nTickets: $30 Chamber Members/$35 Non-Members</span></p>\n\n<p style="margin: 0px\; padding: 0px\; border: 0px\; outline: 0px\; font-size: 14px\; vertical-align: baseline\; background-image: initial\; background-position: initial\; background-size: initial\; background-repeat: initial\; background-attachment: initial\; background-origin: initial\; background-clip: initial\; color: rgb(116\, 116\, 116)\; font-family: Rubik\, Arial\, Helvetica\, sans-serif\;"><span style="margin: 0px\; padding: 0px\; border: 0px\; outline: 0px\; vertical-align: baseline\; background: transparent\; color: rgb(0\, 0\, 0)\;">&nbsp\;</span></p>\n\n<p style="margin: 0px\; padding: 0px\; border: 0px\; outline: 0px\; font-size: 14px\; vertical-align: baseline\; background-image: initial\; background-position: initial\; background-size: initial\; background-repeat: initial\; background-attachment: initial\; background-origin: initial\; background-clip: initial\; color: rgb(116\, 116\, 116)\; font-family: Rubik\, Arial\, Helvetica\, sans-serif\;"><br />\n<span style="margin: 0px\; padding: 0px\; border: 0px\; outline: 0px\; vertical-align: baseline\; background: transparent\; color: rgb(0\, 0\, 0)\;"><u>Early Bird Discount: Use the coupon code COMMUNITY to save $5 on individual registration through March 11.<br />\n<a href="https://canalwinchester.com/events/calendar/#id=241&amp\;cid=1982&amp\;wid=801&amp\;type=Cal">https://canalwinchester.com/events/calendar/#id=241&amp\;cid=1982&amp\;wid=801&amp\;type=Cal</a></u></span></p>\n
LOCATION:CW Community Center 45 E. Waterloo St.
UID:e.9051.17768
SEQUENCE:3
DTSTAMP:20260423T032310Z
URL:https://business.destinationcw.org/events/details/state-of-the-community-address-17768
END:VEVENT

END:VCALENDAR
