BEGIN:VCALENDAR
VERSION:2.0
PRODID:-//ChamberMaster//Event Calendar 2.0//EN
METHOD:PUBLISH
X-PUBLISHED-TTL:P3D
REFRESH-INTERVAL:P3D
CALSCALE:GREGORIAN
BEGIN:VEVENT
DTSTART:20170415T220000Z
DTEND:20170416T010000Z
X-MICROSOFT-CDO-ALLDAYEVENT:FALSE
SUMMARY:Spring Fling Party
DESCRIPTION:Spring Fling Party with Right on Main and Boom Boom & Cheatham entertaining
X-ALT-DESC;FMTTYPE=text/html:Spring Fling Party with Right on Main and Boom Boom &amp\; Cheatham entertaining
LOCATION:Hidden Lakes Winery & Distillery\, 650 Winchester Pike\, Canal Winchester\, Ohio
UID:e.9051.4105
SEQUENCE:3
DTSTAMP:20260421T193618Z
URL:https://business.destinationcw.org/events/details/spring-fling-party-4105
END:VEVENT

END:VCALENDAR
