BEGIN:VCALENDAR
VERSION:2.0
PRODID:-//ChamberMaster//Event Calendar 2.0//EN
METHOD:PUBLISH
X-PUBLISHED-TTL:P3D
REFRESH-INTERVAL:P3D
CALSCALE:GREGORIAN
BEGIN:VEVENT
DTSTART:20120601T120000Z
DTEND:20120601T170000Z
X-MICROSOFT-CDO-ALLDAYEVENT:FALSE
SUMMARY:Southeastern Franklin Co. Chamber of Commerce Annual Golf Outing
DESCRIPTION:Join us for our annual Golf outing at the newly renovated Links at Groveport.  Teams will receive drink tickets\, light breakfast\, lunch\, goodie bag and more.  We will have raffle\, 50/50\, games\, etc. \n\nOpen to members and nonmembers.
X-ALT-DESC;FMTTYPE=text/html:Join us for our annual Golf outing at the newly renovated Links at Groveport.&nbsp\; Teams will receive drink tickets\, light breakfast\, lunch\, goodie bag and more.&nbsp\; We will have raffle\, 50/50\, games\, etc.&nbsp\;<br />\nOpen to members and&nbsp\;nonmembers.&nbsp\;
LOCATION:The Links at Groveport
UID:e.9051.48
SEQUENCE:3
DTSTAMP:20260421T182235Z
URL:https://business.destinationcw.org/events/details/southeastern-franklin-co-chamber-of-commerce-annual-golf-outing-06-01-2012-48
END:VEVENT

END:VCALENDAR
