BEGIN:VCALENDAR
VERSION:2.0
PRODID:-//ChamberMaster//Event Calendar 2.0//EN
METHOD:PUBLISH
X-PUBLISHED-TTL:P3D
REFRESH-INTERVAL:P3D
CALSCALE:GREGORIAN
BEGIN:VEVENT
DTSTART:20161115T163000Z
DTEND:20161115T180000Z
X-MICROSOFT-CDO-ALLDAYEVENT:FALSE
SUMMARY:Soup for Your Soul
DESCRIPTION:The Canal Winchester Area Resource for the Elderly invites you to their 4th annual Soup for Your Soul event.  Just bring a scarf\, hat or gloves to donate to the local pantry and receive a hot bowl of soup\, salad\, bread and dessert.  Sign up at the Frances Steube Community Center.
X-ALT-DESC;FMTTYPE=text/html:The Canal Winchester Area Resource for the Elderly invites you to their 4th annual Soup for Your Soul event.&nbsp\; Just bring a scarf\, hat or gloves to donate to the local pantry and receive a hot bowl of soup\, salad\, bread and dessert.&nbsp\; Sign up at the Frances Steube Community Center.
LOCATION:22 S. Trine Street\, Canal Winchester\, Ohio
UID:e.9051.4025
SEQUENCE:3
DTSTAMP:20260421T113846Z
URL:https://business.destinationcw.org/events/details/soup-for-your-soul-4025
END:VEVENT

END:VCALENDAR
