BEGIN:VCALENDAR
VERSION:2.0
PRODID:-//ChamberMaster//Event Calendar 2.0//EN
METHOD:PUBLISH
X-PUBLISHED-TTL:P3D
REFRESH-INTERVAL:P3D
CALSCALE:GREGORIAN
BEGIN:VEVENT
DTSTART:20180621T210000Z
DTEND:20180622T003000Z
X-MICROSOFT-CDO-ALLDAYEVENT:FALSE
SUMMARY:Solstice Stroll
DESCRIPTION:Summer Solstice Stroll in historic downtown Canal Winchester.  Come celebrate the first day of summer while you stroll from shop to shop from 5 to 8:30 pm.
X-ALT-DESC;FMTTYPE=text/html:Summer Solstice Stroll in historic downtown Canal Winchester.&nbsp\; Come celebrate the first day of summer while you stroll from shop to shop from 5 to 8:30 pm.
LOCATION:Historic Downtown Canal Winchester
UID:e.9051.5909
SEQUENCE:3
DTSTAMP:20260422T173602Z
URL:https://business.destinationcw.org/events/details/solstice-stroll-5909
END:VEVENT

END:VCALENDAR
