BEGIN:VCALENDAR
VERSION:2.0
PRODID:-//ChamberMaster//Event Calendar 2.0//EN
METHOD:PUBLISH
X-PUBLISHED-TTL:P3D
REFRESH-INTERVAL:P3D
CALSCALE:GREGORIAN
BEGIN:VEVENT
DTSTART:20161126T150000Z
DTEND:20161126T230000Z
X-MICROSOFT-CDO-ALLDAYEVENT:FALSE
SUMMARY:Small Business Saturday at Wagon Wheel Wines
DESCRIPTION:Help support your local businesses by shopping on Small Business Saturday\, Nov. 26th. We will be open from 10am - 6pm.\nJoin us for a day of wine tasting\, wine glass painting and shopping! We have many great local gifts for you to choose from: local made wine and cider\; gift baskets\; wine purses and more! \n\n\n\nTo enroll in the wine glass painting\, participants may choose from three class times: noon - 2 pm\, 2 pm - 4 pm and 4 pm - 6 pm.  Classes are $15 and include one glass to paint\, one glass of wine\, two wine tastings and a mini pairing of chocolates.
X-ALT-DESC;FMTTYPE=text/html:Help support your local businesses by shopping on Small Business Saturday\, Nov. 26th. We will be open from 10am - 6pm.\n<div><span>Join us for a day of wine tasting\, wine glass painting and shopping! We have many great local gifts for you to choose from: local made wine and cider\; gift baskets\; wine purses and more!&nbsp\;<br />\n<br />\nTo enroll in the wine glass painting\, participants may choose from three class times: noon - 2 pm\, 2 pm - 4 pm and 4 pm - 6 pm.&nbsp\; Classes are $15 and include one glass to paint\, one glass of wine\, two wine tastings and a mini pairing of chocolates.</span><br />\n&nbsp\;</div>\n
LOCATION:Wagon Wheel Wines on 58 E. Waterloo St. in Historic downtown Canal Winchester
UID:e.9051.4027
SEQUENCE:3
DTSTAMP:20260421T132641Z
URL:https://business.destinationcw.org/events/details/small-business-saturday-at-wagon-wheel-wines-4027
END:VEVENT

END:VCALENDAR
