BEGIN:VCALENDAR
VERSION:2.0
PRODID:-//ChamberMaster//Event Calendar 2.0//EN
METHOD:PUBLISH
X-PUBLISHED-TTL:P3D
REFRESH-INTERVAL:P3D
CALSCALE:GREGORIAN
BEGIN:VEVENT
DTSTART:20181119T170000Z
DTEND:20181119T220000Z
X-MICROSOFT-CDO-ALLDAYEVENT:FALSE
SUMMARY:Shaw & Sons Jewelers CW Food Pantry fundraiser
DESCRIPTION:Our love our downtown merchants' giving hearts.  From November 13th to December 24th buy a pair of pearl earrings for $10 and 100% of the purchase price will be donated to the Canal Winchester Food Pantry.  Buy a wonderful gift and help a family in need at the same time.
X-ALT-DESC;FMTTYPE=text/html:Our love our downtown merchants&#39\; giving hearts.&nbsp\; From November 13th to December 24th buy a pair of pearl earrings for $10 and 100% of the purchase price will be donated to the Canal Winchester Food Pantry.&nbsp\; Buy a wonderful gift and help a family in need at the same time.
LOCATION:Shaw & Son Jewelers\, 15 South High St\, Canal Winchester\, Ohio
UID:e.9051.6405
SEQUENCE:3
DTSTAMP:20260423T014314Z
URL:https://business.destinationcw.org/events/details/shaw-sons-jewelers-cw-food-pantry-fundraiser-11-19-2018-6405
END:VEVENT

END:VCALENDAR
