BEGIN:VCALENDAR
VERSION:2.0
PRODID:-//ChamberMaster//Event Calendar 2.0//EN
METHOD:PUBLISH
X-PUBLISHED-TTL:P3D
REFRESH-INTERVAL:P3D
CALSCALE:GREGORIAN
BEGIN:VEVENT
DTSTART:20201001T120000Z
DTEND:20201024T160000Z
X-MICROSOFT-CDO-ALLDAYEVENT:FALSE
SUMMARY:Scarecrow Tour and Competition
DESCRIPTION:Calling for anyone who wishes to participate! \n\nCreate a scarecrow following the rules below.\n\nExhibit your scarecrow throughout the month of October. Members of the community are invited to vote for their favorites. Prizes will be awarded in the following categories:  Best Business\, Most Original\, Best Storybook and Funniest. Go destinationcw.org for rules of participation.
X-ALT-DESC;FMTTYPE=text/html:<span style="font-size:14px\;"><strong>Calling for anyone who wishes to participate! </strong><br />\nCreate a scarecrow following the rules below.<br />\nExhibit your scarecrow throughout the month of October. Members of the community are invited to vote for their favorites. Prizes will be awarded in the following categories:&nbsp\; Best Business\, Most Original\, Best Storybook and Funniest. Go destinationcw.org for rules of participation.</span>
LOCATION:All around Canal Winchester people will be displaying their creations. Check the Destination: Canal Winchester site under the event tab for a map of locations. The map will be updated as scarecrows are entered.
UID:e.9051.9603
SEQUENCE:3
DTSTAMP:20260421T213149Z
URL:https://business.destinationcw.org/events/details/scarecrow-tour-and-competition-9603
END:VEVENT

END:VCALENDAR
