BEGIN:VCALENDAR
VERSION:2.0
PRODID:-//ChamberMaster//Event Calendar 2.0//EN
METHOD:PUBLISH
X-PUBLISHED-TTL:P3D
REFRESH-INTERVAL:P3D
CALSCALE:GREGORIAN
BEGIN:VEVENT
DTSTART:20120331T220000Z
DTEND:20120401T020000Z
X-MICROSOFT-CDO-ALLDAYEVENT:FALSE
SUMMARY:Sara's Survivors - Progressive Euchre Fundraiser (100% to Amer. Cancer Soc.)
DESCRIPTION:Open progressive Euchre Tournament with 100% proceeds to benefit American Cancer Society. 25 tables. Prizes\, 50/50 raffle\, food\, and drink available.
X-ALT-DESC;FMTTYPE=text/html:Open progressive Euchre Tournament with 100% proceeds to benefit American Cancer Society. 25 tables. Prizes\, 50/50 raffle\, food\, and drink available.
LOCATION:Senior/Community Center 22 South Trine Street Canal Winchester\, Ohio
UID:e.9051.45
SEQUENCE:3
DTSTAMP:20260421T225801Z
URL:https://business.destinationcw.org/events/details/sara-s-survivors-progressive-euchre-fundraiser-100-to-amer-cancer-soc-03-31-2012-45
END:VEVENT

END:VCALENDAR
