BEGIN:VCALENDAR
VERSION:2.0
PRODID:-//ChamberMaster//Event Calendar 2.0//EN
METHOD:PUBLISH
X-PUBLISHED-TTL:P3D
REFRESH-INTERVAL:P3D
CALSCALE:GREGORIAN
BEGIN:VEVENT
DTSTART:20201205T200000Z
DTEND:20201205T220000Z
X-MICROSOFT-CDO-ALLDAYEVENT:FALSE
SUMMARY:Santa parade
DESCRIPTION:Step outside and wave to Santa as he goes by Saturday\, December 5th from 3 to 5.  Santa will be passing through most of the Canal Winchester neighborhoods before joining the Brockstrong Lighted Parade at 5:15 pm.
X-ALT-DESC;FMTTYPE=text/html:Step outside and wave to Santa as he goes by Saturday\, December 5th from 3 to 5.&nbsp\; Santa will be passing through most of the Canal Winchester neighborhoods before joining the Brockstrong Lighted Parade at 5:15 pm.
LOCATION:Go to https://www.canalwinchesterohio.gov/ for the route of both the Santa parade and the Brockstrong Lighted Parade.
UID:e.9051.9621
SEQUENCE:3
DTSTAMP:20260421T195050Z
URL:https://business.destinationcw.org/events/details/santa-parade-9621
END:VEVENT

END:VCALENDAR
