BEGIN:VCALENDAR
VERSION:2.0
PRODID:-//ChamberMaster//Event Calendar 2.0//EN
METHOD:PUBLISH
X-PUBLISHED-TTL:P3D
REFRESH-INTERVAL:P3D
CALSCALE:GREGORIAN
BEGIN:VEVENT
DTSTART:20170402T180000Z
DTEND:20170402T210000Z
X-MICROSOFT-CDO-ALLDAYEVENT:FALSE
SUMMARY:Rick Barr
DESCRIPTION:Rick Barr entertainer
X-ALT-DESC;FMTTYPE=text/html:Rick Barr entertainer
LOCATION:Hidden Lakes Winery & Distillery\, 650 Winchester Pike\, Canal Winchester\, Ohio
UID:e.9051.4099
SEQUENCE:3
DTSTAMP:20260421T205336Z
URL:https://business.destinationcw.org/events/details/rick-barr-4099
END:VEVENT

END:VCALENDAR
