BEGIN:VCALENDAR
VERSION:2.0
PRODID:-//ChamberMaster//Event Calendar 2.0//EN
METHOD:PUBLISH
X-PUBLISHED-TTL:P3D
REFRESH-INTERVAL:P3D
CALSCALE:GREGORIAN
BEGIN:VEVENT
DTSTART:20180519T200000Z
DTEND:20180520T035500Z
X-MICROSOFT-CDO-ALLDAYEVENT:FALSE
SUMMARY:Relay for Life of Canal Winchester and Groveport
DESCRIPTION:Join us as we come together to celebrate the lives of those who have battled cancer and remember those that we have lost to this terrible disease.  Come for 30 minutes or stay until midnight.
X-ALT-DESC;FMTTYPE=text/html:Join us as we come together to celebrate the lives of those&nbsp\;who have battled cancer and remember those that we have lost to this terrible disease.&nbsp\; Come for 30 minutes or stay until midnight.
LOCATION:Canal Winchester High School Athletic Field
UID:e.9051.5889
SEQUENCE:3
DTSTAMP:20260422T175156Z
URL:https://business.destinationcw.org/events/details/relay-for-life-of-canal-winchester-and-groveport-5889
END:VEVENT

END:VCALENDAR
