BEGIN:VCALENDAR
VERSION:2.0
PRODID:-//ChamberMaster//Event Calendar 2.0//EN
METHOD:PUBLISH
X-PUBLISHED-TTL:P3D
REFRESH-INTERVAL:P3D
CALSCALE:GREGORIAN
BEGIN:VEVENT
DTSTART:20120608T220000Z
DTEND:20120609T160000Z
X-MICROSOFT-CDO-ALLDAYEVENT:FALSE
SUMMARY:Relay for Life of Canal Winchester and Groveport
DESCRIPTION:This years event is in memory of Canal Winchester Relay founder-Kris Sims.\n\nJoin us as we come together to celebrate the lives of those who have battled cancer and remember those that we have lost to this terrible disease.  Come for 30 minutes or stay all night.  We offer lots of family friendly events including theme laps where you can dress us\, we have a dj\,  games\, we have special guests coming for entertainment\, we have zumba\, concession stands and much more.  We kick things off at 6pm with a survivor dinner.  Come see what this event is all about and join us as communities come together as one to show their love\, admiration and courage.  Its a free event with lots of activities for everyone. You can walk\, run\, skip\, bring your strollers\, plastic wagons and we have wheel chairs available as well.
X-ALT-DESC;FMTTYPE=text/html:This years event is in memory of Canal Winchester Relay founder-Kris Sims.<br />\nJoin us as we come together to celebrate the lives of those&nbsp\;who have battled cancer and remember those that we have lost to this terrible disease.&nbsp\; Come for 30 minutes or stay all night.&nbsp\; We offer lots of family friendly events including theme laps where you can dress us\, we have a dj\,&nbsp\; games\, we have special guests coming for entertainment\, we have&nbsp\;zumba\, concession stands and much more.&nbsp\; We kick things off at 6pm with a survivor dinner.&nbsp\; Come see what this event is all about and join us as communities come together as one to show their love\, admiration and courage.&nbsp\; Its a free event with lots of activities for everyone. You can walk\, run\, skip\, bring your strollers\, plastic wagons and we have wheel chairs available as well.
LOCATION:Canal Winchester High School
UID:e.9051.49
SEQUENCE:3
DTSTAMP:20260421T182538Z
URL:https://business.destinationcw.org/events/details/relay-for-life-of-canal-winchester-and-groveport-06-08-2012-49
END:VEVENT

END:VCALENDAR
