BEGIN:VCALENDAR
VERSION:2.0
PRODID:-//ChamberMaster//Event Calendar 2.0//EN
METHOD:PUBLISH
X-PUBLISHED-TTL:P3D
REFRESH-INTERVAL:P3D
CALSCALE:GREGORIAN
BEGIN:VEVENT
DTSTART:20201016T213000Z
DTEND:20201017T000000Z
X-MICROSOFT-CDO-ALLDAYEVENT:FALSE
SUMMARY:Pelotonia Fundraiser in Memory of Brian Gilchrist
DESCRIPTION:Pelotonia Fundraiser  - Barrel & Boar Hog Roast.  $7 for sandwich and chips.  There will be raffle items from local businesses\, drinks and hot chocolate stand.  All proceeds go to the event.  Go to www.pelotonia.org/ride4brian for more information.
X-ALT-DESC;FMTTYPE=text/html:Pelotonia Fundraiser&nbsp\; - Barrel &amp\; Boar Hog Roast.&nbsp\; $7 for sandwich and chips.&nbsp\; There will be raffle items from local businesses\, drinks and hot chocolate stand.&nbsp\; All proceeds go to the event.&nbsp\; Go to www.pelotonia.org/ride4brian for more information.
LOCATION:The Canal Winchester Interurban behind Barrel & Boar in Canal Winchester.
UID:e.9051.9607
SEQUENCE:3
DTSTAMP:20260421T225645Z
URL:https://business.destinationcw.org/events/details/pelotonia-fundraiser-in-memory-of-brian-gilchrist-9607
END:VEVENT

END:VCALENDAR
