BEGIN:VCALENDAR
VERSION:2.0
PRODID:-//ChamberMaster//Event Calendar 2.0//EN
METHOD:PUBLISH
X-PUBLISHED-TTL:P3D
REFRESH-INTERVAL:P3D
CALSCALE:GREGORIAN
BEGIN:VEVENT
DTSTART:20171011T220000Z
DTEND:20171012T000000Z
X-MICROSOFT-CDO-ALLDAYEVENT:FALSE
SUMMARY:Painting Party
DESCRIPTION:Painting Party
X-ALT-DESC;FMTTYPE=text/html:Painting Party
LOCATION:Hidden Lakes Winery\, 650 Winchester Pike\, Canal Winchester\, Ohio
UID:e.9051.4224
SEQUENCE:3
DTSTAMP:20260422T062426Z
URL:https://business.destinationcw.org/events/details/painting-party-4224
END:VEVENT

END:VCALENDAR
