BEGIN:VCALENDAR
VERSION:2.0
PRODID:-//ChamberMaster//Event Calendar 2.0//EN
METHOD:PUBLISH
X-PUBLISHED-TTL:P3D
REFRESH-INTERVAL:P3D
CALSCALE:GREGORIAN
BEGIN:VEVENT
DTSTART:20170309T220000Z
DTEND:20170310T020000Z
X-MICROSOFT-CDO-ALLDAYEVENT:FALSE
SUMMARY:Old Town Canal Winchester Spring Shop Hop
DESCRIPTION:Old Town Canal Winchester Spring Shop Hop is a wonderful way to prepare to welcome spring into your home.  Each of our shops will be stocked with a wonderful selection of household and personal items that make you truly feel like spring is just around the corner.  You'll find everything from furniture to jewelry.  And be sure to stay and grab a bite to eat after a fun evening of shopping.  This event only happens twice a year - don't miss it!  Feel free to contact any of our wonderful shops in down town Canal Winchester for further information.
X-ALT-DESC;FMTTYPE=text/html:Old Town Canal Winchester Spring Shop Hop is a wonderful way to prepare to welcome spring into your home.&nbsp\; Each of our shops will be stocked with a wonderful selection of household and personal items that make you truly feel like spring is just around the corner.&nbsp\; You&#39\;ll find everything from furniture to jewelry.&nbsp\; And be sure to stay and grab a bite to eat after a fun evening of shopping.&nbsp\; This event only happens twice a year&nbsp\;- don&#39\;t miss it!&nbsp\; Feel free to contact any of our wonderful shops in down town Canal Winchester for further information.
LOCATION:Historic downtown Canal Winchester.
UID:e.9051.4093
SEQUENCE:3
DTSTAMP:20260421T180452Z
URL:https://business.destinationcw.org/events/details/old-town-canal-winchester-spring-shop-hop-4093
END:VEVENT

END:VCALENDAR
