BEGIN:VCALENDAR
VERSION:2.0
PRODID:-//ChamberMaster//Event Calendar 2.0//EN
METHOD:PUBLISH
X-PUBLISHED-TTL:P3D
REFRESH-INTERVAL:P3D
CALSCALE:GREGORIAN
BEGIN:VEVENT
DTSTART:20260425T140000Z
DTEND:20260425T160000Z
X-MICROSOFT-CDO-ALLDAYEVENT:FALSE
SUMMARY:National Prescription Drug Takeback & E-Recycling Event
DESCRIPTION:The City of Canal Winchester\, in cooperation with the Fairfield County Sheriff's Office\, the Drug Enforcement Administration (DEA)\, and Diley Ridge Medical Center\, will host a National Prescription Drug Take Back event on Saturday\, April 25\, 2026\, at the Diley Ridge Medical Center parking lot\, 7911 Diley Rd.\, from 10 AM to 2 PM. Columbus Micro Systems will also be on site collecting electronics for recycling.\n\nCanal Winchester's collection site is set up in a convenient stop and drop model\, allowing those discarding unwanted prescription drugs to remain in their vehicles\, drop medications with collection agents\, and continue on their way. Please note that collectors may only accept pills.  Liquids (including inhalers and their refills)\, as well as needles or sharps\, may not be dropped off.  The service is free and anonymous\; no questions asked.\n\nColumbus Micro Systems accepts most electronic material that includes\, but not limited to: laptops\, desktops\, cables\, keyboards\, mice\, cameras\, peripherals\, tablets\, phones\, LCDs\, CRTs\, etc. The only materials not accepted are kitchen appliances and items with refrigerants such as microwaves\, toasters\, air conditioner units. Some items will be assessed a disposal fee\; see below for more details. Cash and cards are accepted.\n\n\n	\n		\n			LCD TV Monitor\n			$15.00\n		\n		\n			CRT Computer Monitor\n			$15.00\n		\n		\n			CRT TV Monitor below 20"\n			$25.00\n		\n		\n			CRT TV Monitor below 35"\n			$35.00\n		\n		\n			CRT TV Monitor above 36"\n			$.65 / lb\n		\n	\n\n\nNo CRT TVs larger than 35" will be accepted.\n\nThe City of Canal Winchester thanks partners and volunteers who have locally assisted in the DEA program\, with special thanks to Diley Ridge Medical Center for use of their property.
X-ALT-DESC;FMTTYPE=text/html:<p data-pasted="true" style="box-sizing: inherit\; margin: 0px 0px 1.4em\; padding: 0px\; border: 0px\; outline: 0px\; font-size: 14px\; font-family: Lato\; vertical-align: baseline\; color: rgb(56\, 56\, 56)\; line-height: 1.5\;">The City of Canal Winchester\, in cooperation with the Fairfield County Sheriff&rsquo\;s Office\, the Drug Enforcement Administration (DEA)\, and Diley Ridge Medical Center\, will host a National Prescription Drug Take Back event on Saturday\, April 25\, 2026\, at the Diley Ridge Medical Center parking lot\, 7911 Diley Rd.\, from 10 AM to 2 PM. Columbus Micro Systems will also be on site collecting electronics for recycling.</p>\n\n<p style="box-sizing: inherit\; margin: 0px 0px 1.4em\; padding: 0px\; border: 0px\; outline: 0px\; font-size: 14px\; font-family: Lato\; vertical-align: baseline\; color: rgb(56\, 56\, 56)\; line-height: 1.5\;">Canal Winchester&rsquo\;s collection site is set up in a convenient stop and drop model\, allowing those discarding unwanted prescription drugs to remain in their vehicles\, drop medications with collection agents\, and continue on their way. Please note that collectors may only accept pills. &nbsp\;Liquids (including inhalers and their refills)\, as well as needles or sharps\, may not be dropped off. &nbsp\;The service is free and anonymous\; no questions asked.</p>\n\n<p style="box-sizing: inherit\; margin: 0px 0px 1.4em\; padding: 0px\; border: 0px\; outline: 0px\; font-size: 14px\; font-family: Lato\; vertical-align: baseline\; color: rgb(56\, 56\, 56)\; line-height: 1.5\;">Columbus Micro Systems accepts most electronic material that includes\, but not limited to: laptops\, desktops\, cables\, keyboards\, mice\, cameras\, peripherals\, tablets\, phones\, LCDs\, CRTs\, etc. The only materials not accepted are kitchen appliances and items with refrigerants such as microwaves\, toasters\, air conditioner units. Some items will be assessed a disposal fee\; see below for more details. Cash and cards are accepted.</p>\n\n<table style="box-sizing: initial\; border-collapse: collapse\; border-spacing: 0px\; margin: 0px 760.6px 0px 0px\; padding: 0px\; border: 0px\; outline: 0px\; font-size: 15.2px\; font-family: Lato\; vertical-align: baseline\; empty-cells: show\; max-width: 100%\; background-color: rgb(250\, 250\, 250)\; width: 573.787px\;">\n	<tbody style="box-sizing: initial\; margin: 0px\; padding: 0px\; border: 0px\; outline: 0px\; font-weight: inherit\; font-style: inherit\; font-family: inherit\; vertical-align: baseline\;">\n		<tr style="box-sizing: initial\; margin: 0px\; padding: 0px\; border: 0px\; outline: 0px\; font-weight: inherit\; font-style: inherit\; font-family: inherit\; vertical-align: baseline\;">\n			<td style="box-sizing: initial\; padding: 0.35em\; vertical-align: top\; margin: 0px\; border: 0px\; outline: 0px\; font-style: inherit\; font-family: inherit\; min-width: 5px\; width: 402.175px\;">LCD TV Monitor</td>\n			<td style="box-sizing: initial\; padding: 0.35em\; vertical-align: top\; margin: 0px\; border: 0px\; outline: 0px\; font-style: inherit\; font-family: inherit\; min-width: 5px\; width: 150.363px\;">$15.00</td>\n		</tr>\n		<tr style="box-sizing: initial\; margin: 0px\; padding: 0px\; border: 0px\; outline: 0px\; font-weight: inherit\; font-style: inherit\; font-family: inherit\; vertical-align: baseline\;">\n			<td style="box-sizing: initial\; padding: 0.35em\; vertical-align: top\; margin: 0px\; border: 0px\; outline: 0px\; font-style: inherit\; font-family: inherit\; min-width: 5px\; width: 402.175px\;">CRT Computer Monitor</td>\n			<td style="box-sizing: initial\; padding: 0.35em\; vertical-align: top\; margin: 0px\; border: 0px\; outline: 0px\; font-style: inherit\; font-family: inherit\; min-width: 5px\; width: 150.363px\;">$15.00</td>\n		</tr>\n		<tr style="box-sizing: initial\; margin: 0px\; padding: 0px\; border: 0px\; outline: 0px\; font-weight: inherit\; font-style: inherit\; font-family: inherit\; vertical-align: baseline\;">\n			<td style="box-sizing: initial\; padding: 0.35em\; vertical-align: top\; margin: 0px\; border: 0px\; outline: 0px\; font-style: inherit\; font-family: inherit\; min-width: 5px\; width: 402.175px\;">CRT TV Monitor below 20&quot\;</td>\n			<td style="box-sizing: initial\; padding: 0.35em\; vertical-align: top\; margin: 0px\; border: 0px\; outline: 0px\; font-style: inherit\; font-family: inherit\; min-width: 5px\; width: 150.363px\;">$25.00</td>\n		</tr>\n		<tr style="box-sizing: initial\; margin: 0px\; padding: 0px\; border: 0px\; outline: 0px\; font-weight: inherit\; font-style: inherit\; font-family: inherit\; vertical-align: baseline\;">\n			<td style="box-sizing: initial\; padding: 0.35em\; vertical-align: top\; margin: 0px\; border: 0px\; outline: 0px\; font-style: inherit\; font-family: inherit\; min-width: 5px\; width: 402.175px\;">CRT TV Monitor below 35&quot\;</td>\n			<td style="box-sizing: initial\; padding: 0.35em\; vertical-align: top\; margin: 0px\; border: 0px\; outline: 0px\; font-style: inherit\; font-family: inherit\; min-width: 5px\; width: 150.363px\;">$35.00</td>\n		</tr>\n		<tr style="box-sizing: initial\; margin: 0px\; padding: 0px\; border: 0px\; outline: 0px\; font-weight: inherit\; font-style: inherit\; font-family: inherit\; vertical-align: baseline\;">\n			<td style="box-sizing: initial\; padding: 0.35em\; vertical-align: top\; margin: 0px\; border: 0px\; outline: 0px\; font-style: inherit\; font-family: inherit\; min-width: 5px\; width: 402.175px\;">CRT TV Monitor above 36&quot\;</td>\n			<td style="box-sizing: initial\; padding: 0.35em\; vertical-align: top\; margin: 0px\; border: 0px\; outline: 0px\; font-style: inherit\; font-family: inherit\; min-width: 5px\; width: 150.363px\;">$.65 / lb</td>\n		</tr>\n	</tbody>\n</table>\n\n<p style="box-sizing: initial\; margin: 0px 0px 6px\; padding: 0px\; border: 0px\; outline: 0px\; font-size: 15.2px\; font-family: Lato\; vertical-align: baseline\;"><em style="box-sizing: initial\; margin: 0px\; padding: 0px\; border: 0px\; outline: 0px\; font-weight: inherit\; font-family: inherit\; vertical-align: baseline\;">No CRT TVs larger than 35&quot\; will be accepted.</em></p>\n\n<p style="box-sizing: inherit\; margin: 0px 0px 1.4em\; padding: 0px\; border: 0px\; outline: 0px\; font-size: 14px\; font-family: Lato\; vertical-align: baseline\; color: rgb(56\, 56\, 56)\; line-height: 1.5\;">The City of Canal Winchester thanks partners and volunteers who have locally assisted in the DEA program\, with special thanks to Diley Ridge Medical Center for use of their property.</p>\n
LOCATION:Diley Ridge Medical Center 7911 Diley Rd Canal Winchester\, Oh
UID:e.9051.17496
SEQUENCE:3
DTSTAMP:20260423T082105Z
URL:https://business.destinationcw.org/events/details/national-prescription-drug-takeback-e-recycling-event-17496
END:VEVENT

END:VCALENDAR
