BEGIN:VCALENDAR
VERSION:2.0
PRODID:-//ChamberMaster//Event Calendar 2.0//EN
METHOD:PUBLISH
X-PUBLISHED-TTL:P3D
REFRESH-INTERVAL:P3D
CALSCALE:GREGORIAN
BEGIN:VEVENT
DTSTART:20120929T160000Z
DTEND:20120929T220000Z
X-MICROSOFT-CDO-ALLDAYEVENT:FALSE
SUMMARY:National Barber Museum's Annual "BARBER-Q" Pork Roast!
DESCRIPTION:Do you love great food and great music?  Then you won't want to miss the upcoming Backyard "Barber-Q" at Stradley Place in Canal Winchester from noon to six pm on Saturday\, September 29th!  This event is sponsored by the National Barber Museum\, and will include a delicious menu of pulled pork sandwiches\, baked beans\, cole slaw\, and iced tea or lemonade.  Dinners\, including one drink are $10\, or you can opt for a sandwich only for $5\, or a sandwich and a drink for $7.  If it's hot dogs and chips you prefer\, those will also be available for the low price of $3 for both!  And what BBQ is complete without some great music?  The band Prism will be performing from 1:00-5:00 pm.\n\n \n\nSo grab your friends and neighbors and come out and enjoy a great backyard "Barber-Q" to benefit the National Barber Museum!  See you on the 29th!
X-ALT-DESC;FMTTYPE=text/html:<span style="color:black\;"><span style="font-size:14.0pt\;">Do you love great food and great&nbsp\;music?&nbsp\; Then you won&#39\;t want to miss the upcoming Backyard&nbsp\;&quot\;Barber-Q&quot\; at Stradley Place in Canal Winchester from <strong>noon to six pm on Saturday\, </strong></span></span><strong><span style="font-size:14.0pt\;">September 29th</span></strong><span style="color:black\;"><span style="font-size:14.0pt\;">!&nbsp\; This event is sponsored by the National Barber Museum\, and will include a delicious menu of pulled pork sandwiches\, baked beans\, cole slaw\, and iced tea or lemonade.&nbsp\;&nbsp\;Dinners\, including one drink are $10\, or you can opt for a sandwich only for $5\, or a sandwich and a drink for $7.&nbsp\; If it&#39\;s hot dogs and chips you prefer\, those will also be available for the low price of $3 for both!&nbsp\;&nbsp\;And what BBQ is complete without some great music?&nbsp\; The band Prism will be performing from&nbsp\;1:00-5:00 pm.</span></span><br />\n&nbsp\;<br />\n<span style="color:black\;"><span style="font-size:14.0pt\;">So&nbsp\;grab your friends and neighbors and come out and enjoy a great backyard &quot\;Barber-Q&quot\; to benefit&nbsp\;the National Barber Museum!&nbsp\; See you on the 29th! </span></span>
LOCATION:Stradley Place Park (beside Mucicipal Building 36 S. High)
UID:e.9051.88
SEQUENCE:3
DTSTAMP:20260421T150105Z
URL:https://business.destinationcw.org/events/details/national-barber-museum-s-annual-barber-q-pork-roast-09-29-2012-88
END:VEVENT

END:VCALENDAR
