BEGIN:VCALENDAR
VERSION:2.0
PRODID:-//ChamberMaster//Event Calendar 2.0//EN
METHOD:PUBLISH
X-PUBLISHED-TTL:P3D
REFRESH-INTERVAL:P3D
CALSCALE:GREGORIAN
BEGIN:VEVENT
DTSTART;VALUE=DATE:20170429
DTEND;VALUE=DATE:20170430
TRANSP:TRANSPARENT
X-MICROSOFT-CDO-ALLDAYEVENT:TRUE
SUMMARY:Musical Entertainment by Van Dyke Trio
DESCRIPTION:Musical Entertainment by Van Dyke Trio
X-ALT-DESC;FMTTYPE=text/html:Musical Entertainment by Van Dyke Trio
LOCATION:Harvest Moon Craft Kitchen
UID:e.9051.4131
SEQUENCE:3
DTSTAMP:20260421T205909Z
URL:https://business.destinationcw.org/events/details/musical-entertainment-by-van-dyke-trio-4131
END:VEVENT

END:VCALENDAR
