BEGIN:VCALENDAR
VERSION:2.0
PRODID:-//ChamberMaster//Event Calendar 2.0//EN
METHOD:PUBLISH
X-PUBLISHED-TTL:P3D
REFRESH-INTERVAL:P3D
CALSCALE:GREGORIAN
BEGIN:VEVENT
DTSTART:20170518T230000Z
DTEND:20170519T010000Z
X-MICROSOFT-CDO-ALLDAYEVENT:FALSE
SUMMARY:Musical Entertainment by Steve Riggs
DESCRIPTION:Musical Entertainment by Steve Riggs
X-ALT-DESC;FMTTYPE=text/html:Musical Entertainment by Steve Riggs
LOCATION:Harvest Moon Craft Kitchen\, 7 N. High St.\, Canal Winchester
UID:e.9051.4082
SEQUENCE:3
DTSTAMP:20260421T210213Z
URL:https://business.destinationcw.org/events/details/musical-entertainment-by-steve-riggs-4082
END:VEVENT

END:VCALENDAR
