BEGIN:VCALENDAR
VERSION:2.0
PRODID:-//ChamberMaster//Event Calendar 2.0//EN
METHOD:PUBLISH
X-PUBLISHED-TTL:P3D
REFRESH-INTERVAL:P3D
CALSCALE:GREGORIAN
BEGIN:VEVENT
DTSTART:20190106T190000Z
DTEND:20190106T220000Z
X-MICROSOFT-CDO-ALLDAYEVENT:FALSE
SUMMARY:Musical Entertainment by Rick Barr
DESCRIPTION:Musical Entertainment by Rick Barr
X-ALT-DESC;FMTTYPE=text/html:Musical Entertainment by Rick Barr
LOCATION:Hidden Lakes Winery\, 650 Winchester Pike\, Canal Winchester\, Ohio 43110
UID:e.9051.6621
SEQUENCE:3
DTSTAMP:20260423T043208Z
URL:https://business.destinationcw.org/events/details/musical-entertainment-by-rick-barr-6621
END:VEVENT

END:VCALENDAR
