BEGIN:VCALENDAR
VERSION:2.0
PRODID:-//ChamberMaster//Event Calendar 2.0//EN
METHOD:PUBLISH
X-PUBLISHED-TTL:P3D
REFRESH-INTERVAL:P3D
CALSCALE:GREGORIAN
BEGIN:VEVENT
DTSTART:20170507T170000Z
DTEND:20170507T200000Z
X-MICROSOFT-CDO-ALLDAYEVENT:FALSE
SUMMARY:Musical Entertainment by Rick Barr
DESCRIPTION:Musical Entertainment by Rick Barr
X-ALT-DESC;FMTTYPE=text/html:Musical Entertainment by Rick Barr
LOCATION:Hidden Lakes Winery\, 650 Winchester Pike
UID:e.9051.4130
SEQUENCE:3
DTSTAMP:20260421T205627Z
URL:https://business.destinationcw.org/events/details/musical-entertainment-by-rick-barr-4130
END:VEVENT

END:VCALENDAR
