BEGIN:VCALENDAR
VERSION:2.0
PRODID:-//ChamberMaster//Event Calendar 2.0//EN
METHOD:PUBLISH
X-PUBLISHED-TTL:P3D
REFRESH-INTERVAL:P3D
CALSCALE:GREGORIAN
BEGIN:VEVENT
DTSTART:20170503T220000Z
DTEND:20170504T010000Z
X-MICROSOFT-CDO-ALLDAYEVENT:FALSE
SUMMARY:Musical Entertainment by Pro Jam with Chaz Mechenbier
DESCRIPTION:Music by Pro Jam with Chaz Mechenbier
X-ALT-DESC;FMTTYPE=text/html:Music by Pro Jam with Chaz Mechenbier
LOCATION:Hidden Lakes Winery\, 650 Winchester Pike\, Canal Winchester\, Ohio
UID:e.9051.4129
SEQUENCE:3
DTSTAMP:20260421T205911Z
URL:https://business.destinationcw.org/events/details/musical-entertainment-by-pro-jam-with-chaz-mechenbier-4129
END:VEVENT

END:VCALENDAR
