BEGIN:VCALENDAR
VERSION:2.0
PRODID:-//ChamberMaster//Event Calendar 2.0//EN
METHOD:PUBLISH
X-PUBLISHED-TTL:P3D
REFRESH-INTERVAL:P3D
CALSCALE:GREGORIAN
BEGIN:VEVENT
DTSTART:20170504T220000Z
DTEND:20170505T010000Z
X-MICROSOFT-CDO-ALLDAYEVENT:FALSE
SUMMARY:Musical Entertainment by Peter Conrad
DESCRIPTION:Music by Peter Conrad
X-ALT-DESC;FMTTYPE=text/html:Music by Peter Conrad
LOCATION:Hidden Lakes Winery\, 650 Winchester Pike\, Canal Winchester\, Ohio
UID:e.9051.4119
SEQUENCE:3
DTSTAMP:20260421T205741Z
URL:https://business.destinationcw.org/events/details/musical-entertainment-by-peter-conrad-4119
END:VEVENT

END:VCALENDAR
