BEGIN:VCALENDAR
VERSION:2.0
PRODID:-//ChamberMaster//Event Calendar 2.0//EN
METHOD:PUBLISH
X-PUBLISHED-TTL:P3D
REFRESH-INTERVAL:P3D
CALSCALE:GREGORIAN
BEGIN:VEVENT
DTSTART:20170513T163000Z
DTEND:20170513T183000Z
X-MICROSOFT-CDO-ALLDAYEVENT:FALSE
SUMMARY:Musical Entertainment by Nick D
DESCRIPTION:Musical Entertainment by Nick D
X-ALT-DESC;FMTTYPE=text/html:Musical Entertainment by Nick D
LOCATION:Harvest Moon Craft Kitchen
UID:e.9051.4126
SEQUENCE:3
DTSTAMP:20260421T210040Z
URL:https://business.destinationcw.org/events/details/musical-entertainment-by-nick-d-4126
END:VEVENT

END:VCALENDAR
