BEGIN:VCALENDAR
VERSION:2.0
PRODID:-//ChamberMaster//Event Calendar 2.0//EN
METHOD:PUBLISH
X-PUBLISHED-TTL:P3D
REFRESH-INTERVAL:P3D
CALSCALE:GREGORIAN
BEGIN:VEVENT
DTSTART:20170511T230000Z
DTEND:20170512T010000Z
X-MICROSOFT-CDO-ALLDAYEVENT:FALSE
SUMMARY:Musical Entertainment by George Barrie
DESCRIPTION:Musical Entertainment by George Barrie
X-ALT-DESC;FMTTYPE=text/html:Musical Entertainment by George Barrie
LOCATION:Harvest Moon Craft Kitchen\, 7 N. High Street\, Canal Winchester\, Ohio
UID:e.9051.4124
SEQUENCE:3
DTSTAMP:20260421T223953Z
URL:https://business.destinationcw.org/events/details/musical-entertainment-by-george-barrie-4124
END:VEVENT

END:VCALENDAR
