BEGIN:VCALENDAR
VERSION:2.0
PRODID:-//ChamberMaster//Event Calendar 2.0//EN
METHOD:PUBLISH
X-PUBLISHED-TTL:P3D
REFRESH-INTERVAL:P3D
CALSCALE:GREGORIAN
BEGIN:VEVENT
DTSTART:20170513T230000Z
DTEND:20170514T013000Z
X-MICROSOFT-CDO-ALLDAYEVENT:FALSE
SUMMARY:Musical Entertainment by Acoustic Avalanche
DESCRIPTION:Musical Entertainment by Acoustic Avalanche
X-ALT-DESC;FMTTYPE=text/html:Musical Entertainment by Acoustic Avalanche
LOCATION:7 N. High Street\, Canal Winchester\, Ohio 43110
UID:e.9051.4127
SEQUENCE:3
DTSTAMP:20260421T223955Z
URL:https://business.destinationcw.org/events/details/musical-entertainment-by-acoustic-avalanche-4127
END:VEVENT

END:VCALENDAR
