BEGIN:VCALENDAR
VERSION:2.0
PRODID:-//ChamberMaster//Event Calendar 2.0//EN
METHOD:PUBLISH
X-PUBLISHED-TTL:P3D
REFRESH-INTERVAL:P3D
CALSCALE:GREGORIAN
BEGIN:VEVENT
DTSTART:20200906T210000Z
DTEND:20200907T000000Z
X-MICROSOFT-CDO-ALLDAYEVENT:FALSE
SUMMARY:Music Trivia at Blystone Farm\, LLC
DESCRIPTION:Music Trivia at  Blystone Farm\, LLC - bring the whole family.
X-ALT-DESC;FMTTYPE=text/html:Music Trivia at&nbsp\; Blystone Farm\, LLC - bring the whole family.
LOCATION:8677 Oregon Rd\, Canal Winchester\, Ohio
UID:e.9051.9600
SEQUENCE:3
DTSTAMP:20260421T225337Z
URL:https://business.destinationcw.org/events/details/music-trivia-at-blystone-farm-llc-9600
END:VEVENT

END:VCALENDAR
