BEGIN:VCALENDAR
VERSION:2.0
PRODID:-//ChamberMaster//Event Calendar 2.0//EN
METHOD:PUBLISH
X-PUBLISHED-TTL:P3D
REFRESH-INTERVAL:P3D
CALSCALE:GREGORIAN
BEGIN:VEVENT
DTSTART:20170225T000000Z
DTEND:20170225T030000Z
X-MICROSOFT-CDO-ALLDAYEVENT:FALSE
SUMMARY:Music - The Lews Brothers
DESCRIPTION:
X-ALT-DESC;FMTTYPE=text/html:
LOCATION:Harvest Moon Craft Kitchen\, 7 N. High St\, Canal Winchester
UID:e.9051.4083
SEQUENCE:3
DTSTAMP:20260421T165326Z
URL:https://business.destinationcw.org/events/details/music-the-lews-brothers-4083
END:VEVENT

END:VCALENDAR
