BEGIN:VCALENDAR
VERSION:2.0
PRODID:-//ChamberMaster//Event Calendar 2.0//EN
METHOD:PUBLISH
X-PUBLISHED-TTL:P3D
REFRESH-INTERVAL:P3D
CALSCALE:GREGORIAN
BEGIN:VEVENT
DTSTART:20170226T190000Z
DTEND:20170226T220000Z
X-MICROSOFT-CDO-ALLDAYEVENT:FALSE
SUMMARY:Music - R & R Acoustic
DESCRIPTION:
X-ALT-DESC;FMTTYPE=text/html:
LOCATION:Hidden Lakes Winery\, 650 Winchester Pike\, Canal Winchester
UID:e.9051.4090
SEQUENCE:3
DTSTAMP:20260421T165225Z
URL:https://business.destinationcw.org/events/details/music-r-r-acoustic-4090
END:VEVENT

END:VCALENDAR
